BEGIN:VCALENDAR
VERSION:2.0
PRODID:-//ChamberMaster//Event Calendar 2.0//EN
METHOD:PUBLISH
X-PUBLISHED-TTL:P3D
REFRESH-INTERVAL:P3D
CALSCALE:GREGORIAN
BEGIN:VEVENT
DTSTART:20190924T160000Z
DTEND:20190924T190000Z
X-MICROSOFT-CDO-ALLDAYEVENT:FALSE
SUMMARY:Visit with Our Legislators
DESCRIPTION:Join us as we discuss the 2019 Legislative Session and look forward to the 2020 Legislative Session with guests from the legislature. This is a free event\, but we ask you "register" to attend so that we have food and seats for all.
X-ALT-DESC;FMTTYPE=text/html:Join us as we discuss the 2019 Legislative Session and look forward to the 2020 Legislative Session with guests from the legislature. This is a free event\, but we ask you &ldquo\;register&rdquo\; to attend so that we have food and seats for all.
LOCATION:West Maricopa Assn of REALTORS 9001 W Union Hills Dr. #8 Peoria\, AZ 85382
UID:e.9118.547
SEQUENCE:3
DTSTAMP:20260423T085428Z
URL:https://business.westmarc.org/events/details/visit-with-our-legislators-547
END:VEVENT

END:VCALENDAR
