BEGIN:VCALENDAR
VERSION:2.0
PRODID:-//ChamberMaster//Event Calendar 2.0//EN
METHOD:PUBLISH
X-PUBLISHED-TTL:P3D
REFRESH-INTERVAL:P3D
CALSCALE:GREGORIAN
BEGIN:VEVENT
DTSTART:20260509T150000Z
DTEND:20260510T000000Z
X-MICROSOFT-CDO-ALLDAYEVENT:FALSE
SUMMARY:Phoenix CycleNation at Estrella
DESCRIPTION:Estrella\, one of Arizona's premier master-planned communities\, is proud to announce it will serve as host and local platform sponsor for the inaugural American Heart Association Phoenix CycleNation on Saturday\, May 9\, overlooking Estrella's scenic North Lake. A free concert by The Fabulous Thunderbirds will follow. Arizona's first-of-its-kind CycleNation experience brings corporate and community teams together on stationary bikes to raise critical funds and awareness for stroke research\, education\, and prevention. More than a fitness event\, CycleNation is a powerful movement uniting hearts\, minds\, and bodies around a shared mission: to stop the cycle of stroke and heart disease and save lives. The CycleNation event at 10300 Estrella Parkway offers participants a stunning lakeside setting. Registration opens at 8 a.m.\, with teams of 2 to 8 cyclists officially taking off at 9 a.m. Spectators will enjoy a festive atmosphere with lawn games\, demonstrations\, and light snacks provided. From 10 a.m. to 5 p.m.\, those looking for a great deal on a new home can tour four Estrella neighborhoods\, all near completion and closing out sales. At 11 a.m.\, Estrella will host the free "Wrap It Up" afterparty with a high-energy performance by Grammy-nominated Kim Wilson and The Fabulous Thunderbirds on the upper terrace of the Starpointe Residents' Club\, 17665 W. Elliot Road.
X-ALT-DESC;FMTTYPE=text/html:Estrella\, one of Arizona&rsquo\;s premier master-planned communities\, is proud to announce it will serve as host and local platform sponsor for the inaugural American Heart Association Phoenix CycleNation on Saturday\, May 9\, overlooking Estrella&rsquo\;s scenic North Lake. A free concert by The Fabulous Thunderbirds will follow. Arizona&rsquo\;s first-of-its-kind CycleNation experience brings corporate and community teams together on stationary bikes to raise critical funds and awareness for stroke research\, education\, and prevention. More than a fitness event\, CycleNation is a powerful movement uniting hearts\, minds\, and bodies around a shared mission: to stop the cycle of stroke and heart disease and save lives. The CycleNation event at 10300 Estrella Parkway offers participants a stunning lakeside setting. Registration opens at 8 a.m.\, with teams of 2 to 8 cyclists officially taking off at 9 a.m. Spectators will enjoy a festive atmosphere with lawn games\, demonstrations\, and light snacks provided. From 10 a.m. to 5 p.m.\, those looking for a great deal on a new home can tour four Estrella neighborhoods\, all near completion and closing out sales. At 11 a.m.\, Estrella will host the free &ldquo\;Wrap It Up&rdquo\; afterparty with a high-energy performance by Grammy-nominated Kim Wilson and The Fabulous Thunderbirds on the upper terrace of the Starpointe Residents&rsquo\; Club\, 17665 W. Elliot Road.
LOCATION:Estrella\, 10300 Estrella Parkway\, Goodyear\, Arizona
UID:e.9118.857
SEQUENCE:3
DTSTAMP:20260423T084458Z
URL:https://business.westmarc.org/events/details/phoenix-cyclenation-at-estrella-857
END:VEVENT

END:VCALENDAR
