BEGIN:VCALENDAR
VERSION:2.0
PRODID:-//ChamberMaster//Event Calendar 2.0//EN
METHOD:PUBLISH
X-PUBLISHED-TTL:P3D
REFRESH-INTERVAL:P3D
CALSCALE:GREGORIAN
BEGIN:VEVENT
DTSTART:20260429T170000Z
DTEND:20260429T210000Z
X-MICROSOFT-CDO-ALLDAYEVENT:FALSE
SUMMARY:Apprenticeship Fair
DESCRIPTION:Discover a new pathway to a rewarding career at our upcoming Apprenticeship Fair! Taking place during National Apprenticeship Week\, this event connects workers with hands-on training & real job openings across in-demand industries. Available Occupations: Electrician\, Sheet Metal Worker\, Heavy Equipment Operator\, Medical Assistant\, Ironworker Welding\, Information Technology\, Heavy Equipment Mechanic\, and more!
X-ALT-DESC;FMTTYPE=text/html:Discover a new pathway to a rewarding career at our upcoming Apprenticeship Fair! Taking place during National Apprenticeship Week\, this event connects workers with hands-on training &amp\; real job openings across in-demand industries. Available Occupations: Electrician\, Sheet Metal Worker\, Heavy Equipment Operator\, Medical Assistant\, Ironworker Welding\, Information Technology\, Heavy Equipment Mechanic\, and more!
LOCATION:Goodyear Ballpark\, 1933 S Ballpark Way\, Goodyear\, AZ 85338
UID:e.9118.856
SEQUENCE:3
DTSTAMP:20260421T031456Z
URL:https://business.westmarc.org/events/details/apprenticeship-fair-856
END:VEVENT

END:VCALENDAR
