BEGIN:VCALENDAR
VERSION:2.0
PRODID:-//ChamberMaster//Event Calendar 2.0//EN
METHOD:PUBLISH
X-PUBLISHED-TTL:P3D
REFRESH-INTERVAL:P3D
CALSCALE:GREGORIAN
BEGIN:VEVENT
DTSTART:20260514T150000Z
DTEND:20260514T190000Z
X-MICROSOFT-CDO-ALLDAYEVENT:FALSE
SUMMARY:2026 WESTMARC Economic Development Summit
DESCRIPTION:WESTMARC's Economic Development Summit provides members and the community with updates on progress and future plans for economic development in Western Maricopa County.  The event features speakers and panels addressing current issues and opportunities for economic success. \n\n\n\nFeatured Topic: Sustainable Growth in the West Valley\nBuild smarter. Grow stronger. The West Valley's blueprint for sustainable\, competitive expansion.
X-ALT-DESC;FMTTYPE=text/html:WESTMARC&rsquo\;s Economic Development Summit provides members and the community with updates on progress and future plans for economic development in Western Maricopa County.&nbsp\;&nbsp\;<span style="color: rgb(51\, 51\, 51)\; font-family: sans-serif\, Arial\, Verdana\, &quot\;Trebuchet MS&quot\;\; font-size: 13px\; background-color: rgb(255\, 255\, 255)\;">The event features speakers and panels addressing current issues and opportunities for economic success.&nbsp\;</span><br />\n<br />\n<u>Featured Topic</u>:&nbsp\;<em><strong>Sustainable Growth in the West Valley</strong></em>\n<div>Build smarter. Grow stronger. The West Valley&rsquo\;s blueprint for sustainable\, competitive expansion.</div>\n
LOCATION:Global Credit Union Arena - Grand Canyon Univ. 3300 W Camelback Rd Phoenix\, AZ 85017
UID:e.9118.840
SEQUENCE:3
DTSTAMP:20260424T103954Z
URL:https://business.westmarc.org/events/details/2026-westmarc-economic-development-summit-840
END:VEVENT

END:VCALENDAR
